BEGIN:VCALENDAR
VERSION:2.0
PRODID:-//Black Health//Events//EN
CALSCALE:GREGORIAN
METHOD:PUBLISH
X-WR-CALNAME:Black Health Events
X-WR-CALDESC:Health events for the Black community
X-WR-TIMEZONE:America/Chicago
BEGIN:VEVENT
UID:00000000-cccc-0003-0000-000000000003@blackhealth.org
DTSTAMP:20260423T064035Z
DTSTART:20260505T160000Z
DTEND:20260506T230000Z
SUMMARY:Black Maternal Mental Health Summit 2026 (In-Person)
DESCRIPTION:Two-day in-person summit at Compton College. Black mothers and birthing people free\; providers $250 (6 APA-approved CEUs). Organized by Black Girls Mental Health Foundation.
URL:https://www.blackhealth.org/events/black-maternal-mental-health-summit-compton-2026/
CATEGORIES:Conference / summit
LOCATION:Compton College\, 1111 E Artesia Blvd\, Compton\, CA
ORGANIZER;CN=Black Girls Mental Health Foundation:MAILTO:info@bgmhfoundation.org
STATUS:CONFIRMED
END:VEVENT
BEGIN:VEVENT
UID:00000000-cccc-0004-0000-000000000004@blackhealth.org
DTSTAMP:20260423T064035Z
DTSTART:20260510T170000Z
DTEND:20260510T200000Z
SUMMARY:Black Maternal Mental Health Summit 2026 (Virtual Community Activation)
DESCRIPTION:Free virtual community activation on Zoom. Companion session to the in-person summit. For Black mothers\, birthing people\, and communities supporting them.
URL:https://www.blackhealth.org/events/black-maternal-mental-health-summit-virtual-2026/
CATEGORIES:Panel / talk / reading
ORGANIZER;CN=Black Girls Mental Health Foundation:MAILTO:info@bgmhfoundation.org
STATUS:CONFIRMED
END:VEVENT
BEGIN:VEVENT
UID:00000000-cccc-0005-0000-000000000005@blackhealth.org
DTSTAMP:20260423T064035Z
DTSTART:20260516T150000Z
DTEND:20260516T180000Z
SUMMARY:Wellness Without Walls 2026 — NC100BW Metro Atlanta Community Health Fair
DESCRIPTION:Free three-hour community health fair at Greenbriar Mall hosted by National Coalition of 100 Black Women\, Metro Atlanta Chapter. Screenings\, education\, fitness demonstrations.
URL:https://www.blackhealth.org/events/wellness-without-walls-atlanta-2026/
CATEGORIES:Health fair
LOCATION:Greenbriar Mall\, 2841 Greenbriar Pkwy SW\, Atlanta\, GA
ORGANIZER;CN=National Coalition of 100 Black Women\, Inc.\, Metropolitan Atlanta Chapter:MAILTO:contact@ncbw-metroatlchapter.org
STATUS:CONFIRMED
END:VEVENT
BEGIN:VEVENT
UID:00000000-bbbb-0001-0000-000000000001@blackhealth.org
DTSTAMP:20260423T064035Z
DTSTART:20260517T080000Z
DTEND:20260517T120000Z
SUMMARY:5th Annual Black Mothers' Wellness 5K
DESCRIPTION:Join us for the 5th annual walk/run celebrating Black maternal health. All fitness levels welcome. Walk\, jog\, or run the 3.1-mile route through Hermann Park.
URL:https://www.blackhealth.org/events/5th-annual-black-mothers-wellness-5k-2026/
CATEGORIES:Walk / Run / Ride
LOCATION:Hermann Park Pavilion\, 6001 Fannin St\, Houston\, TX
ORGANIZER;CN=Houston Black Wellness Coalition:MAILTO:events@houstonblackwellness.org
STATUS:CONFIRMED
END:VEVENT
BEGIN:VEVENT
UID:00000000-bbbb-0002-0000-000000000002@blackhealth.org
DTSTAMP:20260423T064035Z
DTSTART:20260608T083000Z
DTEND:20260608T120000Z
SUMMARY:BLKHLTH x Sister Accord: Sickle Cell Screening & Community Breakfast
DESCRIPTION:Free sickle cell trait screening plus a full community breakfast. No insurance needed. Learn your status\, meet your neighbors\, and enjoy a warm Southern meal.
URL:https://www.blackhealth.org/events/blkhlth-sickle-cell-screening-community-breakfast-atlanta-2026/
CATEGORIES:Screening / test drive
LOCATION:Cascade United Methodist Church\, 1225 Cascade Ave SW\, Atlanta\, GA
ORGANIZER;CN=BLKHLTH Community Health Initiative:MAILTO:screenings@blkhlth.community
STATUS:CONFIRMED
END:VEVENT
BEGIN:VEVENT
UID:00000000-cccc-0001-0000-000000000001@blackhealth.org
DTSTAMP:20260423T064035Z
DTSTART:20260612T160000Z
DTEND:20260613T230000Z
SUMMARY:Black Health and Healing Summit 2026
DESCRIPTION:Free two-day summit in San Francisco's Bayview. Legacy\, healing\, and imagining our future. Workshops\, wellness services\, vendor village\, performances. 15th annual.
URL:https://www.blackhealth.org/events/rafiki-black-health-and-healing-summit-2026/
CATEGORIES:Conference / summit
LOCATION:Rafiki Coalition for Health & Wellness\, 601 Cesar Chavez Street\, San Francisco\, CA
ORGANIZER;CN=Rafiki Coalition for Health & Wellness:MAILTO:info@rafikicoalition.org
STATUS:CONFIRMED
END:VEVENT
BEGIN:VEVENT
UID:00000000-bbbb-0003-0000-000000000003@blackhealth.org
DTSTAMP:20260423T064035Z
DTSTART:20260615T090000Z
DTEND:20260615T170000Z
SUMMARY:Black Men's Mental Health Summit
DESCRIPTION:A full day of panels\, workshops\, and community on men's mental health. Therapy stigma\, grief\, fatherhood\, and finding culturally affirming care. Hybrid event.
URL:https://www.blackhealth.org/events/black-mens-mental-health-summit-brooklyn-2026/
CATEGORIES:Conference / summit
LOCATION:Bedford-Stuyvesant YMCA\, 1121 Bedford Ave\, Brooklyn\, NY
ORGANIZER;CN=Brooklyn Community Mental Wellness Project:MAILTO:summit@bcmwp.org
STATUS:CONFIRMED
END:VEVENT
BEGIN:VEVENT
UID:00000000-bbbb-0005-0000-000000000005@blackhealth.org
DTSTAMP:20260423T064035Z
DTSTART:20260619T100000Z
DTEND:20260619T140000Z
SUMMARY:Diabetes Prevention Workshop (Juneteenth Edition)
DESCRIPTION:A free\, hands-on diabetes prevention workshop featuring cooking demos\, lifestyle coaching\, and free A1C testing. Part of our annual Juneteenth Health Day.
URL:https://www.blackhealth.org/events/diabetes-prevention-workshop-juneteenth-edition-chicago-2026/
CATEGORIES:Workshop / class
LOCATION:Bronzeville Community Center\, 4259 S Michigan Ave\, Chicago\, IL
ORGANIZER;CN=South Side Health & Wellness Partners:MAILTO:wellness@southsidehwp.org
STATUS:CONFIRMED
END:VEVENT
BEGIN:VEVENT
UID:00000000-cccc-0002-0000-000000000002@blackhealth.org
DTSTAMP:20260423T064035Z
DTSTART:20260620T170000Z
DTEND:20260620T220000Z
SUMMARY:Juneteenth Wellness & Arts Festival 2026
DESCRIPTION:Free wellness and arts festival at Cherry Street Pier on Juneteenth weekend. Live performances\, interactive art\, health screenings\, fitness sessions\, panel discussions.
URL:https://www.blackhealth.org/events/juneteenth-wellness-arts-festival-philadelphia-2026/
CATEGORIES:Wellness / fitness / yoga
LOCATION:Cherry Street Pier\, 121 N. Columbus Boulevard\, Philadelphia\, PA
ORGANIZER;CN=The Women's Coalition for Empowerment:MAILTO:cherrystreetpier@drwc.org
STATUS:CONFIRMED
END:VEVENT
BEGIN:VEVENT
UID:00000000-bbbb-0004-0000-000000000004@blackhealth.org
DTSTAMP:20260423T064035Z
DTSTART:20260622T190000Z
DTEND:20260622T203000Z
SUMMARY:Moms of Color Doula Collective: Monthly Support Circle
DESCRIPTION:A virtual safe space for Black and brown mothers to connect\, share\, and heal. Doula-led discussion on postpartum recovery\, infant bonding\, and birth trauma.
URL:https://www.blackhealth.org/events/moms-of-color-doula-collective-monthly-support-circle-june-2026/
CATEGORIES:Support group
LOCATION:https://zoom.us/j/momsofcolor-support
ORGANIZER;CN=Moms of Color Doula Collective:MAILTO:circle@momsofcolordoulas.org
STATUS:CONFIRMED
END:VEVENT
BEGIN:VEVENT
UID:00000000-bbbb-0007-0000-000000000007@blackhealth.org
DTSTAMP:20260423T064035Z
DTSTART:20260706T100000Z
DTEND:20260706T111500Z
SUMMARY:Gentle Yoga for Black Women (Free\, Donations Welcome)
DESCRIPTION:A free weekly yoga class designed for Black women at all levels. Trauma-informed\, body-affirming\, led by a Black woman yoga instructor. All bodies welcome.
URL:https://www.blackhealth.org/events/gentle-yoga-for-black-women-free-durham-july-2026/
CATEGORIES:Wellness / fitness / yoga
LOCATION:Durham Community Arts Center\, 120 Morris St\, Durham\, NC
ORGANIZER;CN=Rooted & Rising Wellness Studio:MAILTO:yoga@rootedandrising.studio
STATUS:CONFIRMED
END:VEVENT
BEGIN:VEVENT
UID:00000000-bbbb-0006-0000-000000000006@blackhealth.org
DTSTAMP:20260423T064035Z
DTSTART:20260710T190000Z
DTEND:20260710T210000Z
SUMMARY:Sister Circle: Black Women's Menopause Panel
DESCRIPTION:An honest\, funny\, and medically grounded panel on menopause for Black women. Symptoms\, HRT\, libido\, bone health\, and what your OB-GYN might not be telling you.
URL:https://www.blackhealth.org/events/sister-circle-black-womens-menopause-panel-virtual-2026/
CATEGORIES:Panel / talk / reading
LOCATION:https://zoom.us/j/sistercircle-menopause-2026
ORGANIZER;CN=Black Women's Health Collective:MAILTO:events@blackwomenshealthcollective.org
STATUS:CONFIRMED
END:VEVENT
BEGIN:VEVENT
UID:00000000-bbbb-0008-0000-000000000008@blackhealth.org
DTSTAMP:20260423T064035Z
DTSTART:20260718T090000Z
DTEND:20260718T140000Z
SUMMARY:Black Fathers Health Day: Prostate & Heart Screening
DESCRIPTION:Free prostate-specific antigen (PSA) and cardiovascular screenings for Black men 35+. Bring your dad\, your uncle\, your son. No insurance needed.
URL:https://www.blackhealth.org/events/black-fathers-health-day-prostate-heart-screening-detroit-2026/
CATEGORIES:Screening / test drive
LOCATION:Charles H. Wright Museum of African American History\, 315 E Warren Ave\, Detroit\, MI
ORGANIZER;CN=Detroit Men's Health Collaborative:MAILTO:health@detroitmenshealthcollab.org
STATUS:CONFIRMED
END:VEVENT
END:VCALENDAR
